BEGIN:VCALENDAR
VERSION:2.0
PRODID:-//London Insight - ECPv5.16.4//NONSGML v1.0//EN
CALSCALE:GREGORIAN
METHOD:PUBLISH
X-WR-CALNAME:London Insight
X-ORIGINAL-URL:https://www.londoninsight.org
X-WR-CALDESC:Events for London Insight
BEGIN:VTIMEZONE
TZID:UTC
BEGIN:STANDARD
TZOFFSETFROM:+0000
TZOFFSETTO:+0000
TZNAME:UTC
DTSTART:20260101T000000
END:STANDARD
END:VTIMEZONE
BEGIN:VEVENT
DTSTART;TZID=UTC:20260808T133000
DTEND;TZID=UTC:20260808T163000
DTSTAMP:20260425T121605
CREATED:20260422T133305Z
LAST-MODIFIED:20260422T133305Z
UID:51779-1786195800-1786206600@www.londoninsight.org
SUMMARY:In-person: Mindful Steps on the Heath - A Sangha Summer Walk
DESCRIPTION:EVENT DESCRIPTION\nJoin us for a mindful summer walk across Hampstead Heath\, moving gently through meadows\, woodlands\, and open sky. \nOur 3.5-mile route will include some hills as we make our way up one side of the Heath\, past the ponds and through the woods\, eventually arriving at Kenwood House for a refreshment and comfort break. From there\, we’ll loop back down the other side\, cross over Parliament Hill\, and return to our starting point. \nAlong the way\, we’ll pause to ground ourselves\, tune into our senses\, and take in the beauty of the season. There will also be plenty of space to speak\, share reflections\, and connect with fellow practitioners in a relaxed\, supportive atmosphere. \nAll you’ll need are comfortable walking shoes\, a bottle of water\, a few snacks\, and a curious spirit. \n  \nMEETING POINT\nWe will meet at the park entrance by Hampstead Heath Overground Station (Mildmay line). This is a 13min walk from Hampstead Heath Underground Station (Norther Line) but is also served by several bus routes. The walk will finish back outside Hampstead Heath Overground Station. \n  \nBOOKING\nThe event is free to attend\, but we ask that you to please book a place so we can email you information closer to the time about the walk and also give us an approximate idea of how many will attend.
URL:https://www.londoninsight.org/event/in-person-mindful-steps-on-the-heath-a-sangha-summer-walk/
LOCATION:Hampstead Heath (meeting outside Hamstead Heath overground station)\, Hampstead Heath Overground Station\, S End Rd\,\, London\, NW3 2QD
CATEGORIES:Mindful Walk
END:VEVENT
END:VCALENDAR