BEGIN:VCALENDAR
VERSION:2.0
PRODID:-//London Insight - ECPv5.16.4//NONSGML v1.0//EN
CALSCALE:GREGORIAN
METHOD:PUBLISH
X-WR-CALNAME:London Insight
X-ORIGINAL-URL:https://www.londoninsight.org
X-WR-CALDESC:Events for London Insight
BEGIN:VTIMEZONE
TZID:UTC
BEGIN:STANDARD
TZOFFSETFROM:+0000
TZOFFSETTO:+0000
TZNAME:UTC
DTSTART:20260101T000000
END:STANDARD
END:VTIMEZONE
BEGIN:VEVENT
DTSTART;TZID=UTC:20260912T100000
DTEND;TZID=UTC:20260912T170000
DTSTAMP:20260423T233906
CREATED:20260422T133739Z
LAST-MODIFIED:20260422T133739Z
UID:51785-1789207200-1789232400@www.londoninsight.org
SUMMARY:In-person: Cultivating Skilful Habits Through Spiritual Practice
DESCRIPTION:EVENT DESCRIPTION\nHabits and tendencies can be both skilful and unskilful. The Buddha’s teachings offer us guidance for abandoning unskilful habits and cultivating skilful ones\, in particular by (but by no means limited to) using Right Effort and Right Mindfulness found within the Noble Eightfold Path. \nDuring our day together\, we will be exploring and developing those teachings. The day is open to all\, though some prior practice experience is recommended. \n  \nTEACHER SUPPORT AND EVENT PRICES\nEvents at London Insight are offered in a spirit of generosity. The price you pay goes towards the running of the event but does not include any payment to the teachers for their teaching. Instead our teachers rely on the generosity of participants for their livelihood. Click here for more information on the system of Dana. \n  \nBOOKING FEE\nSponsor: £50 – A voluntary higher rate enabling us to offer supported rate places.\nStandard:  £35\nSupported: £15 – For those unable to afford the standard rate. \nPlease pay the sponsor rate if you can. If you are unable to afford the supported rate please let us know. We try to ensure that no one is turned away because of lack of funds\, providing places are available.
URL:https://www.londoninsight.org/event/in-person-cultivating-skilful-habits-through-spiritual-practice/
LOCATION:King Alfred School\, 149 N End Rd\, London\, NW11 7HY\, United Kingdom
CATEGORIES:Retreat day
END:VEVENT
END:VCALENDAR