BEGIN:VCALENDAR
VERSION:2.0
PRODID:-//London Insight - ECPv5.16.4//NONSGML v1.0//EN
CALSCALE:GREGORIAN
METHOD:PUBLISH
X-WR-CALNAME:London Insight
X-ORIGINAL-URL:https://www.londoninsight.org
X-WR-CALDESC:Events for London Insight
BEGIN:VTIMEZONE
TZID:UTC
BEGIN:STANDARD
TZOFFSETFROM:+0000
TZOFFSETTO:+0000
TZNAME:UTC
DTSTART:20230101T000000
END:STANDARD
END:VTIMEZONE
BEGIN:VEVENT
DTSTART;TZID=UTC:20230225T100000
DTEND;TZID=UTC:20230225T170000
DTSTAMP:20260422T094416
CREATED:20221209T114137Z
LAST-MODIFIED:20230224T152011Z
UID:31376-1677319200-1677344400@www.londoninsight.org
SUMMARY:Hybrid: A Free Life in a Constrained World
DESCRIPTION:Tickets to view a live stream of the event online is now available. Please note that these tickets do not give you access to attend in person. \n  \nEVENT DESCRIPTION\nSeventh Century Zen master Seng-Tsan described a liberated life as one lived “without anxiety about imperfection”. How can we know that genuine ease and freedom in the life we live and amidst the challenges of our times?  \nJoin Martin Aylward to practice and explore together\, in a day of meditation\, teachings\, reflection and sharing\, dancing between the personal and the global\, the intimate and the infinite\, the Dharma and the drama\, the endless friction and the fundamental freeness of everything. \nThe event is suitable to both new and experienced practitioners. \n  \nTEACHER SUPPORT AND EVENT PRICES\nEvents at London Insight are offered in a spirit of generosity. The price you pay goes towards the running of the event but does not include any payment to the teachers for their teaching. Instead our teachers rely on the generosity of participants for their livelihood. Click here for more information on the system of Dana. \n  \nEVENT PRICES\nOnline Stream Sponsor:  £20  – A voluntary higher rate enabling us to offer supported rate places.\nOnline Stream Standard:  £15  – This covers our costs\nOnline Stream Supported: £8  – For those unable to afford the standard rate. \nIn Person Sponsor:  £35  – A voluntary higher rate enabling us to offer supported rate places.\nIn Person Standard:  £25  – This covers our costs\nIn Person Supported: £13  – For those unable to afford the standard rate. \nPlease pay the sponsored rate if you can. \nIf you are unable to afford the supported rate please let us know. We try to ensure that no one is turned away because of lack of funds\, providing places are available. \nTickets will not be available on the day at the venue. Please note that online tickets do not give you access to attend in person.
URL:https://www.londoninsight.org/event/in-person-a-free-life-in-a-constrained-world/
LOCATION:The ARC Centre\, 98b St Paul Street\, London\, N1 7DF\, United Kingdom
CATEGORIES:Retreat day
END:VEVENT
END:VCALENDAR